BEGIN:VCALENDAR
VERSION:2.0
PRODID:-//E tickets - ECPv6.15.20//NONSGML v1.0//EN
CALSCALE:GREGORIAN
METHOD:PUBLISH
X-WR-CALNAME:E tickets
X-ORIGINAL-URL:https://etickets.co.zw
X-WR-CALDESC:Events for E tickets
REFRESH-INTERVAL;VALUE=DURATION:PT1H
X-Robots-Tag:noindex
X-PUBLISHED-TTL:PT1H
BEGIN:VTIMEZONE
TZID:Africa/Harare
BEGIN:STANDARD
TZOFFSETFROM:+0200
TZOFFSETTO:+0200
TZNAME:CAT
DTSTART:20240101T000000
END:STANDARD
END:VTIMEZONE
BEGIN:VEVENT
DTSTART;TZID=Africa/Harare:20250730T080000
DTEND;TZID=Africa/Harare:20251130T170000
DTSTAMP:20260421T222925
CREATED:20250731T201343Z
LAST-MODIFIED:20250731T205237Z
UID:8066-1753862400-1764522000@etickets.co.zw
SUMMARY:Choto Offgrid Energy
DESCRIPTION:Choto is transforming how communities access and share energy. Our peer-to-peer platform connects solar producers with users through a virtual smart grid where power banks are rented and solar powered services are shared like cold storage and solar borehole water\, enabling affordable\, off-grid electricity access where it’s needed most. \n  \nRead terms and Conditions: https://www.chotoenergy.co.zw/partnerprogramterms   \n  \n 
URL:https://etickets.co.zw/event/choto-offgrid-energy/
LOCATION:Choto Head Office\, 54 Jason Moyo\, Harare\, Zimbabwe\, Harare\, 00263\, Zimbabwe
CATEGORIES:Energy
ATTACH;FMTTYPE=image/jpeg:https://etickets.co.zw/wp-content/uploads/2025/07/WhatsApp-Image-2025-07-31-at-10.00.14-PM.jpeg
ORGANIZER;CN="Choto Energy":MAILTO:choto.energy@gmail.com
END:VEVENT
BEGIN:VEVENT
DTSTART;TZID=Africa/Harare:20250524T120000
DTEND;TZID=Africa/Harare:20250526T030000
DTSTAMP:20260421T222926
CREATED:20250113T123534Z
LAST-MODIFIED:20250522T100808Z
UID:3812-1748088000-1748228400@etickets.co.zw
SUMMARY:Sunshine City Festival
DESCRIPTION:The Sunshine city\, is calling! Join us for an unforgettable Africa day weekend party and let’s dance and conquer the city together!.
URL:https://etickets.co.zw/event/sun-shine-city-festival/
LOCATION:Alex sports club\, Cnr Prince Edward Street/Josiah Tongogara Road\, Harare\, Zimbabwe
CATEGORIES:Music
ATTACH;FMTTYPE=image/jpeg:https://etickets.co.zw/wp-content/uploads/2025/01/470601078_1124916806308792_7039281202099101333_n.jpg
ORGANIZER;CN="Tamba Events management":MAILTO:tambaevents@tambabraaiout.co.zw
END:VEVENT
END:VCALENDAR